BEGIN:VCALENDAR
VERSION:2.0
PRODID:-//Midway Moving and Storage - ECPv6.15.20//NONSGML v1.0//EN
CALSCALE:GREGORIAN
METHOD:PUBLISH
X-ORIGINAL-URL:https://midwaymoving.com
X-WR-CALDESC:Events for Midway Moving and Storage
REFRESH-INTERVAL;VALUE=DURATION:PT1H
X-Robots-Tag:noindex
X-PUBLISHED-TTL:PT1H
BEGIN:VTIMEZONE
TZID:America/Chicago
BEGIN:DAYLIGHT
TZOFFSETFROM:-0600
TZOFFSETTO:-0500
TZNAME:CDT
DTSTART:20250309T080000
END:DAYLIGHT
BEGIN:STANDARD
TZOFFSETFROM:-0500
TZOFFSETTO:-0600
TZNAME:CST
DTSTART:20251102T070000
END:STANDARD
BEGIN:DAYLIGHT
TZOFFSETFROM:-0600
TZOFFSETTO:-0500
TZNAME:CDT
DTSTART:20260308T080000
END:DAYLIGHT
BEGIN:STANDARD
TZOFFSETFROM:-0500
TZOFFSETTO:-0600
TZNAME:CST
DTSTART:20261101T070000
END:STANDARD
BEGIN:DAYLIGHT
TZOFFSETFROM:-0600
TZOFFSETTO:-0500
TZNAME:CDT
DTSTART:20270314T080000
END:DAYLIGHT
BEGIN:STANDARD
TZOFFSETFROM:-0500
TZOFFSETTO:-0600
TZNAME:CST
DTSTART:20271107T070000
END:STANDARD
END:VTIMEZONE
BEGIN:VEVENT
DTSTART;TZID=America/Chicago:20260509T100000
DTEND;TZID=America/Chicago:20260509T130000
DTSTAMP:20260421T035855
CREATED:20260319T145414Z
LAST-MODIFIED:20260319T145414Z
UID:10000039-1778320800-1778331600@midwaymoving.com
SUMMARY:Free Shred a Thon: Sponsored by 5th Ward Ald Desmon Yancy
DESCRIPTION:Free community event sponsored by 5th Ward Alderman Desmon Yancy
URL:https://midwaymoving.com/event/free-shred-a-thon-sponsored-by-5th-ward-ald-desmon-yancy/
LOCATION:Local Market Foods\, 2101 East 71st Street\, Chicago\, IL\, 60649\, United States
END:VEVENT
END:VCALENDAR